BEGIN:VCALENDAR
VERSION:2.0
PRODID:-//Orchestre d&#039;Harmonie de Saint-Brieuc - ECPv6.15.20//NONSGML v1.0//EN
CALSCALE:GREGORIAN
METHOD:PUBLISH
X-WR-CALNAME:Orchestre d&#039;Harmonie de Saint-Brieuc
X-ORIGINAL-URL:https://www.harmonie-saint-brieuc.fr
X-WR-CALDESC:Évènements pour Orchestre d&#039;Harmonie de Saint-Brieuc
REFRESH-INTERVAL;VALUE=DURATION:PT1H
X-Robots-Tag:noindex
X-PUBLISHED-TTL:PT1H
BEGIN:VTIMEZONE
TZID:Europe/Paris
BEGIN:DAYLIGHT
TZOFFSETFROM:+0100
TZOFFSETTO:+0200
TZNAME:CEST
DTSTART:20210328T010000
END:DAYLIGHT
BEGIN:STANDARD
TZOFFSETFROM:+0200
TZOFFSETTO:+0100
TZNAME:CET
DTSTART:20211031T010000
END:STANDARD
BEGIN:DAYLIGHT
TZOFFSETFROM:+0100
TZOFFSETTO:+0200
TZNAME:CEST
DTSTART:20220327T010000
END:DAYLIGHT
BEGIN:STANDARD
TZOFFSETFROM:+0200
TZOFFSETTO:+0100
TZNAME:CET
DTSTART:20221030T010000
END:STANDARD
BEGIN:DAYLIGHT
TZOFFSETFROM:+0100
TZOFFSETTO:+0200
TZNAME:CEST
DTSTART:20230326T010000
END:DAYLIGHT
BEGIN:STANDARD
TZOFFSETFROM:+0200
TZOFFSETTO:+0100
TZNAME:CET
DTSTART:20231029T010000
END:STANDARD
END:VTIMEZONE
BEGIN:VEVENT
DTSTART;TZID=Europe/Paris:20221216T203000
DTEND;TZID=Europe/Paris:20221216T220000
DTSTAMP:20260426T005037
CREATED:20221019T192735Z
LAST-MODIFIED:20221019T193947Z
UID:2037-1671222600-1671228000@www.harmonie-saint-brieuc.fr
SUMMARY:Concert de Noël
DESCRIPTION:Plus d’infos à venir…
URL:https://www.harmonie-saint-brieuc.fr/date/concert-de-noel-7/
LOCATION:Salle de Robien\, 1 Place Octave Brilleaud\, Saint Brieuc\, 22590\, France
CATEGORIES:Concerts OHSB
END:VEVENT
END:VCALENDAR