BEGIN:VCALENDAR
VERSION:2.0
PRODID:-//Orchestre d&#039;Harmonie de Saint-Brieuc - ECPv6.15.20//NONSGML v1.0//EN
CALSCALE:GREGORIAN
METHOD:PUBLISH
X-ORIGINAL-URL:https://www.harmonie-saint-brieuc.fr
X-WR-CALDESC:Évènements pour Orchestre d&#039;Harmonie de Saint-Brieuc
REFRESH-INTERVAL;VALUE=DURATION:PT1H
X-Robots-Tag:noindex
X-PUBLISHED-TTL:PT1H
BEGIN:VTIMEZONE
TZID:Europe/Paris
BEGIN:DAYLIGHT
TZOFFSETFROM:+0100
TZOFFSETTO:+0200
TZNAME:CEST
DTSTART:20220327T010000
END:DAYLIGHT
BEGIN:STANDARD
TZOFFSETFROM:+0200
TZOFFSETTO:+0100
TZNAME:CET
DTSTART:20221030T010000
END:STANDARD
BEGIN:DAYLIGHT
TZOFFSETFROM:+0100
TZOFFSETTO:+0200
TZNAME:CEST
DTSTART:20230326T010000
END:DAYLIGHT
BEGIN:STANDARD
TZOFFSETFROM:+0200
TZOFFSETTO:+0100
TZNAME:CET
DTSTART:20231029T010000
END:STANDARD
BEGIN:DAYLIGHT
TZOFFSETFROM:+0100
TZOFFSETTO:+0200
TZNAME:CEST
DTSTART:20240331T010000
END:DAYLIGHT
BEGIN:STANDARD
TZOFFSETFROM:+0200
TZOFFSETTO:+0100
TZNAME:CET
DTSTART:20241027T010000
END:STANDARD
END:VTIMEZONE
BEGIN:VEVENT
DTSTART;TZID=Europe/Paris:20230514T103000
DTEND;TZID=Europe/Paris:20230514T163000
DTSTAMP:20260426T005608
CREATED:20221019T193120Z
LAST-MODIFIED:20230507T091310Z
UID:2044-1684060200-1684081800@www.harmonie-saint-brieuc.fr
SUMMARY:Concerts Rostrenen : Orchestres d'Harmonie en fête
DESCRIPTION:Concert organisé par la Fédération Musicale de Bretagne\, réseau de la Confédération Musicale de France \n\n\n\n10H30 : Orchestre d’Harmonie de St-Brieuc (OHSB) \n\n\n\ndirection Gilles Le Brazidec \n\n\n\n11H30 : Orchestre d’Harmonie de Lorient (OHL) \n\n\n\ndirection Emmanuel Flaum \n\n\n\n14H30 : Orchestre d’Harmonie de Rennes (OHR) \n\n\n\ndirection David Nicolas \n\n\n\n15H30 : Association Musicale de la ville de Brest \n\n\n\ndirection Michel Disségna \n\n\n\nAvec la participation de l’école de musique du Kreiz Breizh
URL:https://www.harmonie-saint-brieuc.fr/date/concert-3/
LOCATION:Salle des fêtes Guillaume Le Caroff à Rostrenen\, impasse Vinogen ar Feunten\, Rostrenen\, 22110\, France
CATEGORIES:Concerts OHSB
ATTACH;FMTTYPE=image/png:https://www.harmonie-saint-brieuc.fr/wp-content/uploads/2022/10/2023-insta-concert-14-mai.png
END:VEVENT
BEGIN:VEVENT
DTSTART;TZID=Europe/Paris:20230526T000000
DTEND;TZID=Europe/Paris:20230528T235959
DTSTAMP:20260426T005608
CREATED:20221019T193612Z
LAST-MODIFIED:20221022T070834Z
UID:2053-1685059200-1685318399@www.harmonie-saint-brieuc.fr
SUMMARY:Buvette ArtRock
DESCRIPTION:
URL:https://www.harmonie-saint-brieuc.fr/date/buvette-artrock/
LOCATION:Saint-Brieuc\, Saint-brieuc\, 22000\, France
END:VEVENT
END:VCALENDAR