BEGIN:VCALENDAR
VERSION:2.0
PRODID:-//Orchestre d&#039;Harmonie de Saint-Brieuc - ECPv6.15.20//NONSGML v1.0//EN
CALSCALE:GREGORIAN
METHOD:PUBLISH
X-ORIGINAL-URL:https://www.harmonie-saint-brieuc.fr
X-WR-CALDESC:Évènements pour Orchestre d&#039;Harmonie de Saint-Brieuc
REFRESH-INTERVAL;VALUE=DURATION:PT1H
X-Robots-Tag:noindex
X-PUBLISHED-TTL:PT1H
BEGIN:VTIMEZONE
TZID:Europe/Paris
BEGIN:DAYLIGHT
TZOFFSETFROM:+0100
TZOFFSETTO:+0200
TZNAME:CEST
DTSTART:20220327T010000
END:DAYLIGHT
BEGIN:STANDARD
TZOFFSETFROM:+0200
TZOFFSETTO:+0100
TZNAME:CET
DTSTART:20221030T010000
END:STANDARD
BEGIN:DAYLIGHT
TZOFFSETFROM:+0100
TZOFFSETTO:+0200
TZNAME:CEST
DTSTART:20230326T010000
END:DAYLIGHT
BEGIN:STANDARD
TZOFFSETFROM:+0200
TZOFFSETTO:+0100
TZNAME:CET
DTSTART:20231029T010000
END:STANDARD
BEGIN:DAYLIGHT
TZOFFSETFROM:+0100
TZOFFSETTO:+0200
TZNAME:CEST
DTSTART:20240331T010000
END:DAYLIGHT
BEGIN:STANDARD
TZOFFSETFROM:+0200
TZOFFSETTO:+0100
TZNAME:CET
DTSTART:20241027T010000
END:STANDARD
END:VTIMEZONE
BEGIN:VEVENT
DTSTART;TZID=Europe/Paris:20230621T200000
DTEND;TZID=Europe/Paris:20230621T203000
DTSTAMP:20260426T020656
CREATED:20221019T193742Z
LAST-MODIFIED:20230619T065647Z
UID:2055-1687377600-1687379400@www.harmonie-saint-brieuc.fr
SUMMARY:Concert Fête de la Musique à Saint-Brieuc
DESCRIPTION:L’orchestre se produira à 20h\, sur la pelouse du parking place de la Cité (derrière le bâtiment)\, à la jonction de l’avenue Louis Loucheur et de la rue de la Solidarité\, dans le cadre de la Fête de la Musique.
URL:https://www.harmonie-saint-brieuc.fr/date/concert-fete-de-la-musique-a-saint-brieuc/
LOCATION:Anciennes halles de Saint-Brieuc\, Place du Martray\, Saint-Brieuc\, 22000\, France
CATEGORIES:Concerts OHSB
ATTACH;FMTTYPE=image/jpeg:https://www.harmonie-saint-brieuc.fr/wp-content/uploads/2022/10/FM-23_1080x1080_visuel.jpg
END:VEVENT
END:VCALENDAR